2.57914630614687
0.00000000000000
0.00000000000000
-2.57914630614687
763580.54687867593020
3835552.93582230014727
